Workbook

Sheet About
A1: About this workbook
A2: Guide for screen readers
A3: There are 4 worksheets in this workbook. Infographic Timeline Chart Data About Chart Data (hidden) The instructions for each worksheet are in the A column starting in cell A1 of each worksheet. They are written with hidden text. Each step guides you through the information in that row. Each subsequent step continues in cell A2, A3, and so on, unless otherwise explicitly directed. For example, instruction text might say "continue to cell A6" for the next step. Hidden text will not print. To remove these instructions from any worksheet, simply delete column A.
A4: Helpful information
A5: This Infographic Timeline charts 5 significant milestones and their activities or descriptions on a timeline. To modify or add timelines, simply update the table in the Chart Data worksheet.
A6: You can chart information by year, by day month values or create a blank space to place an icon or text box. Simply select the method you want in Chart Data worksheet cell D2.
A7: This is the last instruction in this worksheet.

Sheet Checklist - Full Version
A1: 3 Month Plan Towards Recognition Safe Sport Club Recognition Program
A3: Start Date | B3: 46266 | C3: Measure | D3: Points | E3: Complete | F3: Example Links | G3: Enter in Application Location
A4: Week 1 | B4: =B3 -> 46266 | C4: Assign a Safe Sport Club Coordinator - This person should become a USA Swimming member take a background check and complete Athlete Protection Training. • We strongly recommend your club Safe Sport Coordinator be somebody other than a coach or club owner or spouse of one of these. It is best served by someone from your team who has professional experience in the topic of Safe Sport like a law enforcement officer, social worker, or therapist. We understand not every team has this option though. It is important to note, people, especially kids, often feel more comfortable bringing concerns to the team if the person filling that role is not the coach or club owner or spouse of one of these. | D4: 5 Required | F4: How to add roles | G4: Swim Parent/ Volunteer Development
B5: =B4 -> 46266 | C5: Board/Staff Membership - It is required that all adult employees and the board of directors of a club are non-athlete members of USA Swimming in good standing. Start checking to ensure that all staff are registered and up-to-date on their credentials. | D5: 2 Required | F5: How a club checks requirements | G5: Swim Parent/ Volunteer Development
A6: Week 2 | B6: =B5+7 -> 46273 | C6: Online Safe Sport Education for Parents - Begin communicating to parents about educational trainings. There are three ways in which parents can earn credit for education: 1. Through the online catalog, "Parents Guide to Misconduct in Sport"; 2. By attending a group training or attending provided by the team; or 3. Attending a USA Swimming virtual live training. More information can be found on the Training Opportunities Resource webpage. 10% of parents in your club is the minimum requirement. 10% = 1 point | D6: 1-5 Required | F6: Training Opportunities Resource | G6: Swim Parent/ Volunteer Development
C7: How a 2nd parent adds an athlete so that training counts for the club
B8: =B6 -> 46273 | C8: Online Safe Sport Education for Athletes - Begin communicating to parents and athletes about educational trainings for Teens and Kids. There are three ways in which parents can earn credit for education: 1. Through the online catalog "Safe Sport For Kids" (Ages 5-12), "Safe Sport for Teens" (Ages 13-17); 2. By attending a group training or attending provided by the team; or 3. Attending a USA Swimming virtual live training. More information can be found on the Training Opportunities Resource webpage. 10% of athletes trained is the minimum. 10% = 1 point. | D8: 1-5 Required | F8: Training Opportunities Resource | G8: Athlete Development/ Performance
C9: How a parent creates a minor athlete account. Athletes need their own account to take training.
C10: Have Questions? Reach out to your LSC Safe Sport Chair
A11: Week 3 | B11: =B6+7 -> 46280 | C11: Conduct Pre-Employment Screening - As a condition of membership, USA Swimming member clubs are required to conduct pre-employment screens on their new employees. Yes/No box. | D11: 2 Required | G11: Business/ Organization Success
B12: =B11 -> 46280 | C12: Review your Mission and Vision Statement - There should be emphasis on one of the following in the language: Safe and supportive environment or child protection. Where is this located on your club website? | D12: 1 Required | G12: Business/ Organization Success
A13: Week 4 | B13: =B12+7 -> 46287 | C13: Review your Club Website - There should be a club page dedicate to Safe Sport. The link to the club Safe Sport page should be visible from the home page and accessible to anyone visiting your website (i.e. Someone should not need login information). | D13: 5 Required | F13: Example website | G13: Business/ Organization Success
C14: Documents to have on the Club Safe Sport page: • Safe Sport Best Practice Guidelines & MAAPP Policy | D14: 2 | F14: Safe Sport Best Practice Guidelines
B15: =B13 -> 46287 | C15: Minor Athlete Abuse Prevention Policy - USA Swimming requires member clubs implement the Minor Athlete Abuse Prevention Policy (MAAPP) effective as of October 16, 2024. USA Swimming member clubs and Local Swimming Committees (LSCs) are required to implement the Minor Athlete Abuse Prevention Policy in full by January 1, 2025. • Add the MAAPP customized with your club’s name to your Club's Safe Sport webpage | D15: 6 Required | F15: MAAPP policy | G15: Business/ Organization Success
A16: Week 5 | B16: =B13+7 -> 46294 | C16: Review your Club Website - Reporting Information: Reporting information (Confirm the phone numbers listed on your page are correct) • To deal with a Safe Sport concern, contact USA Swimming at (719) 866-4578 https://www.usaswimming.org/safe-sport/deal-with-a-safe-sport-concern. • You may also want to include how to report anonymously. Text anonymous tips to 888-270-SWIM(7946) • Contact the U.S. Center for Safe Sport to make a report. Call 833-5US-SAFE (587-7233) or use the online reporting form at https://uscenterforsafesport.org/report-a-concern/ or find more information at http://www.uscenterforsafesport.org/) • Safe Sport Club Coordinator name and contact information | D16: 2 Required | G16: Business/ Organization Success
B17: =B16 -> 46294 | C17: Reference Checks - Find out how often your club completes reference checks when hiring coaches and/or other staff members? | D17: 1-2 Required | G17: Coach Development/ Education
A18: Week 6 | B18: =B17+7 -> 46301 | C18: Online Safe Sport Education for Parents - Check to see how many parents have completed Online training of the "Parents Guide to Misconduct in Sport" course. Minimum 10% of parents in your club must complete training. Run Report. Communicate with parents about upcoming virtual trainings. (See week 3 for link to instructions on second parent account) | D18: Required | F18: Training Opportunities Resource | G18: Swim Parent/ Volunteer Development
B19: =B18 -> 46301 | C19: Online Safe Sport Education for Athletes - Check to see how many athletes have completed "SafeSport For Kids" (Ages 5-12), "SafeSport for Teens" (Ages 13-17) online education. Run Report. Communicate with parents and athletes about upcoming virtual trainings. (See week 4 for link to instructions on how to create accounts for minors) | D19: Required | F19: Training Opportunities Resource | G19: Athlete Development/ Performance
A20: Week 7 | B20: =B19+7 -> 46308 | C20: Action Plan to Address Bullying - Clubs are required to have an action plan to address bullying. An example action plan is available on the USA Swimming website. (if you choose to use the example you need to customize fully for your club, removing all model and sample language) | D20: 2 Required | F20: Anti-bullying policy | G20: Business/ Organization Success
B21: =B20 -> 46308 | C21: Board/Staff Membership - Check your staff requirements report to see how many staff are registered and up-to-date on their credentials. Follow up with staff who are not in good standing. | D21: 2 Required | F21: How a club checks requirements | G21: Swim Parent/ Volunteer Development
C22: Have Questions? Reach out to your LSC Safe Sport Chair
A23: Week 8 | B23: =B21+7 -> 46315 | C23: Photography Policy - A photography policy is another way to enhance the protection of athlete members. A photography policy could include no picture taking from behind the blocks and could require anyone taking pictures to do so from a certain blocked-off location of the pool deck. The policy must include how parents can opt in or out of having their child photographed at team functions, including swim meets. An example policy is available on the USA Swimming website. (if you choose to use the example policy, you must to customize fully for your club, removing "model" and "suggested" words) | D23: 2 Required | F23: Photography Policy | G23: Business/ Organization Success
B24: =B23 -> 46315 | C24: Grievance Procedure - This procedure should outline who a concern (from a parent, athlete, volunteer, etc.) goes to and what steps that individual takes, up to and including making a report to USA Swimming Safe Sport and the U.S. Center for SafeSport. | D24: 3 | F24: Grievance Procedure | G24: Business/ Organization Success
A25: Week 9 | B25: =B24+7 -> 46322 | C25: Parent Consent Forms - Are required to be kept on file at the club for each instance of the following: • Unrelated Adult Athlete to share a hotel room or sleeping arrangement with a minor athlete. • Unrelated Applicable Adult providing local transportation to a minor athlete. • Licensed massage therapist or other certified professional or health care provider to treat a minor athlete. • Unrelated Applicable Adult to travel to competition with a minor athlete. (if you choose to use the examples; you must to customize fully for your club) | D25: 2 | F25: Parent Consent Forms | G25: Business/ Organization Success
B26: =B25 -> 46322 | C26: USA Swimming Code of Conduct Communicated to Club - Find out if your club has documented that it distributed the USA Swimming Code of Conduct to all members and they have received it. | D26: 2 Required | G26: Business/ Organization Success
A27: Week 10 | B27: =B26+7 -> 46329 | C27: Coach Club Code of Conduct - Looking for an outward facing code of conduct so that parents and athletes can know what to expect from their coach. (if you choose to use the example you must customize fully for your club) | D27: 2 | F27: Coach Club Code of Conduct | G27: Coach Development/ Education
B28: =B27 -> 46329 | C28: Parent/Athlete Club Codes of Conduct - Looking for an club code of conduct so that parents and athletes know what to expect from each other. (if you choose to use the example you must customize fully for your club) | D28: 2 for each | F28: Team Templates | G28: Swim Parent/ Volunteer Development Athlete Development/ Performance
A29: Week 11 | B29: =B28+7 -> 46336 | C29: Volunteer Coordinator Membership - Who is your volunteer coordinator and are they a USA Swimming member in good standing? If yes to both questions you can get additional points. List the name and member ID. | D29: 1 | G29: Swim Parent/ Volunteer Development
B30: =B29 -> 46336 | C30: Meet Marshals - Do you use meet marshals and are they all USA Swimming members in good standing? If yes to both questions you can get additional points. List their names and member ID's. | D30: 1 | G30: Swim Parent/ Volunteer Development
A31: Week 12 | B31: =B30+7 -> 46343 | C31: Online Safe Sport Education for Parents - Check to see how many parents have completed Online training of the "Parents Guide to Misconduct in Sport" course. Minimum 10% of parents in your club must complete training. Run Report. Communicate with parents about upcoming virtual trainings. | D31: Required | F31: Training Opportunities Resource | G31: Swim Parent/ Volunteer Development
B32: =B31 -> 46343 | C32: Online Safe Sport Education for Athletes - Check to see how many athletes have completed "SafeSport For Kids" (Ages 5-12), "SafeSport for Teens" (Ages 13-17) online education. Run Report. Communicate with parents and athletes about upcoming virtual trainings. | D32: Required | F32: Training Opportunities Resource | G32: Athlete Development/ Performance
A33: Week 13 | B33: =B32+7 -> 46350 | C33: Board/Staff Membership - Check your staff requirements report to see how many staff are registered and up-to-date on their credentials. Follow up with staff who are not in good standing. | D33: Required | F33: How a club checks requirements | G33: Swim Parent/ Volunteer Development
B34: =B33 -> 46350 | C34: If you have not done so already … submit your application!!

Sheet Infographic Timeline
A1: 3 Month Plan Towards Recognition Safe Sport Club Recognition Program
A2: An Inforgraphic Timeline is in this worksheet starting in cell B1. 5 teardrop shapes with milestone titles above them and milestone dates within them are mapped along a curved line that charts the year from start to end. Next to each teardrop is a description or list of activities for each milestone or informational marker. To modify the content in this worksheet, update the Chart Data table in the Chart Data worksheet. There are no further instructions in this worksheet.

Sheet Bus-Org-Success
A1: 3 Month Plan Towards Recognition - Business/Organization Success Planning Safe Sport Club Recognition Program
C3: Measure | D3: Points | E3: Complete | F3: Example Links | G3: Enter in Application Location
A4: Week 3 | B4: ='Checklist - Full Version'!B11 -> 46280 | C4: Conduct Pre-Employment Screening - As a condition of membership, USA Swimming member clubs are required to conduct pre-employment screens on their new employees. Yes/No box. | D4: 2 Required | G4: Business/ Organization Success
B5: ='Checklist - Full Version'!B12 -> 46280 | C5: Review your Mission and Vision Statement - There should be emphasis on one of the following in the language: Safe and supportive environment or child protection. Where is this located on your club website? | D5: 1 Required | G5: Business/ Organization Success
A6: Week 4 | B6: ='Checklist - Full Version'!B13 -> 46287 | C6: Review your Club Website - There should be a club page dedicate to Safe Sport. The link to the club Safe Sport page should be visible from the home page and accessible to anyone visiting your website (i.e. Someone should not need login information). | D6: 5 Required | F6: Example website | G6: Business/ Organization Success
C7: Documents to have on the Club Safe Sport page: • Safe Sport Best Practice Guidelines & MAAPP Policy | D7: 2 | F7: Safe Sport Best Practice Guidelines
B8: ='Checklist - Full Version'!B15 -> 46287 | C8: Minor Athlete Abuse Prevention Policy - USA Swimming requires member clubs implement the Minor Athlete Abuse Prevention Policy (MAAPP) effective as of October 16, 2024. USA Swimming member clubs and Local Swimming Committees (LSCs) are required to implement the Minor Athlete Abuse Prevention Policy in full by January 1, 2025. • Add the MAAPP customized with your club’s name to your Club's Safe Sport webpage | D8: 6 Required | F8: MAAPP policy | G8: Business/ Organization Success
A9: Week 5 | B9: ='Checklist - Full Version'!B16 -> 46294 | C9: Review your Club Website - Reporting Information: Reporting information (Confirm the phone numbers listed on your page are correct) • To deal with a Safe Sport concern, contact USA Swimming at (719) 866-4578 https://www.usaswimming.org/safe-sport/deal-with-a-safe-sport-concern. • You may also want to include how to report anonymously. Text anonymous tips to 888-270-SWIM(7946) • Contact the U.S. Center for Safe Sport to make a report. Call 833-5US-SAFE (587-7233) or use the online reporting form at https://uscenterforsafesport.org/report-a-concern/ or find more information at http://www.uscenterforsafesport.org/) • Safe Sport Club Coordinator name and contact information | D9: 2 Required | G9: Business/ Organization Success
A10: Week 7 | B10: ='Checklist - Full Version'!B20 -> 46308 | C10: Action Plan to Address Bullying - Clubs are required to have an action plan to address bullying. An example action plan is available on the USA Swimming website. (if you choose to use the example you need to customize fully for your club, removing all model and sample language) | D10: 2 Required | F10: Anti-bullying policy | G10: Business/ Organization Success
A11: Week 8 | B11: ='Checklist - Full Version'!B23 -> 46315 | C11: Photography Policy - A photography policy is another way to enhance the protection of athlete members. A photography policy could include no picture taking from behind the blocks and could require anyone taking pictures to do so from a certain blocked-off location of the pool deck. The policy must include how parents can opt in or out of having their child photographed at team functions, including swim meets. An example policy is available on the USA Swimming website. (if you choose to use the example policy, you must to customize fully for your club, removing "model" and "suggested" words) | D11: 2 Required | F11: Photography Policy | G11: Business/ Organization Success
A12: Week 8 | B12: ='Checklist - Full Version'!B24 -> 46315 | C12: Grievance Procedure - This procedure should outline who a concern (from a parent, athlete, volunteer, etc.) goes to and what steps that individual takes, up to and including making a report to USA Swimming Safe Sport and the U.S. Center for SafeSport. | D12: 3 | F12: Grievance Procedure | G12: Business/ Organization Success
A13: Week 9 | B13: ='Checklist - Full Version'!B25 -> 46322 | C13: Parent Consent Forms - Are required to be kept on file at the club for each instance of the following: • Unrelated Adult Athlete to share a hotel room or sleeping arrangement with a minor athlete. • Unrelated Applicable Adult providing local transportation to a minor athlete. • Licensed massage therapist or other certified professional or health care provider to treat a minor athlete. • Unrelated Applicable Adult to travel to competition with a minor athlete. (if you choose to use the examples; you must to customize fully for your club) | D13: 2 | F13: Parent Consent Forms | G13: Business/ Organization Success
B14: ='Checklist - Full Version'!B26 -> 46322 | C14: USA Swimming Code of Conduct Communicated to Club - Find out if your club has documented that it distributed the USA Swimming Code of Conduct to all members and they have received it. | D14: 2 Required | G14: Business/ Organization Success

Sheet Swim Parent-Vol Dev
A1: 3 Month Plan Towards Recognition - Swim Parent/Volunteer Development Safe Sport Club Recognition Program
C3: Measure | D3: Points | E3: Complete | F3: Example Links | G3: Enter in Application Location
A4: Week 1 | B4: ='Checklist - Full Version'!B4 -> 46266 | C4: Assign a Safe Sport Club Coordinator - This person should become a USA Swimming member take a background check and complete Athlete Protection Training. • We strongly recommend your club Safe Sport Coordinator be somebody other than a coach or club owner or spouse of one of these. It is best served by someone from your team who has professional experience in the topic of Safe Sport like a law enforcement officer, social worker, or therapist. We understand not every team has this option though. It is important to note, people, especially kids, often feel more comfortable bringing concerns to the team if the person filling that role is not the coach or club owner or spouse of one of these. | D4: 5 Required | F4: How to add roles | G4: Swim Parent/ Volunteer Development
B5: ='Checklist - Full Version'!B5 -> 46266 | C5: Board/Staff Membership - It is required that all adult employees and the board of directors of a club are non-athlete members of USA Swimming in good standing. Start checking to ensure that all staff are registered and up-to-date on their credentials. | D5: 2 Required | F5: How a club checks requirements | G5: Swim Parent/ Volunteer Development
A6: Week 2 | B6: ='Checklist - Full Version'!B6 -> 46273 | C6: Online Safe Sport Education for Parents - Begin communicating to parents about educational trainings. There are three ways in which parents can earn credit for education: 1. Through the online catalog, "Parents Guide to Misconduct in Sport"; 2. By attending a group training or attending provided by the team; or 3. Attending a USA Swimming virtual live training. More information can be found on the Training Opportunities Resource webpage. 10% of parents in your club is the minimum requirement. 10% = 1 point | D6: 1-5 Required | F6: Training Opportunities Resource | G6: Swim Parent/ Volunteer Development
C7: How a 2nd parent adds an athlete so that training counts for the club
A8: ='Checklist - Full Version'!A18 -> Week 6 | B8: ='Checklist - Full Version'!B18 -> 46301 | C8: Online Safe Sport Education for Parents - Check to see how many parents have completed Online training of the "Parents Guide to Misconduct in Sport" course. Minimum 10% of parents in your club must complete training. Run Report. Communicate with parents about upcoming virtual trainings. (See week 3 for link to instructions on second parent account) | D8: Required | F8: Training Opportunities Resource | G8: Swim Parent/ Volunteer Development
A9: ='Checklist - Full Version'!A20 -> Week 7 | B9: ='Checklist - Full Version'!B21 -> 46308 | C9: Board/Staff Membership - Check your staff requirements report to see how many staff are registered and up-to-date on their credentials. Follow up with staff who are not in good standing. | D9: Required | F9: How a club checks requirements | G9: Swim Parent/ Volunteer Development
A10: ='Checklist - Full Version'!A27 -> Week 10 | B10: ='Checklist - Full Version'!B28 -> 46329 | C10: Parent/Athlete Club Codes of Conduct - Looking for an club code of conduct so that parents and athletes know what to expect from each other. (if you choose to use the example you must customize fully for your club) | D10: 2 for each | F10: Team Templates | G10: Swim Parent/ Volunteer Development
A11: ='Checklist - Full Version'!A29 -> Week 11 | B11: ='Checklist - Full Version'!B29 -> 46336 | C11: Volunteer Coordinator Membership - Who is your volunteer coordinator and are they a USA Swimming member in good standing? If yes to both questions you can get additional points. List the name and member ID. | D11: 1 | G11: Swim Parent/ Volunteer Development
B12: ='Checklist - Full Version'!B30 -> 46336 | C12: Meet Marshals - Do you use meet marshals and are they all USA Swimming members in good standing? If yes to both questions you can get additional points. List their names and member ID's. | D12: 1 | G12: Swim Parent/ Volunteer Development
A13: ='Checklist - Full Version'!A31 -> Week 12 | B13: ='Checklist - Full Version'!B31 -> 46343 | C13: Online Safe Sport Education for Parents - Check to see how many parents have completed Online training of the "Parents Guide to Misconduct in Sport" course. Minimum 10% of parents in your club must complete training. Run Report. Communicate with parents about upcoming virtual trainings. | D13: Required | F13: Training Opportunities Resource | G13: Swim Parent/ Volunteer Development
A14: Week 13 | B14: ='Checklist - Full Version'!B33 -> 46350 | C14: Board/Staff Membership - Check your staff requirements report to see how many staff are registered and up-to-date on their credentials. Follow up with staff who are not in good standing. | D14: Required | F14: How a club checks requirements | G14: Swim Parent/ Volunteer Development

Sheet Coach Dev-Education
A1: 3 Month Plan Towards Recognition - Coach Development/Education Safe Sport Club Recognition Program
C3: Measure | D3: Points | E3: Complete | F3: Example Links | G3: Enter in Application Location
A4: ='Checklist - Full Version'!A16 -> Week 5 | B4: ='Checklist - Full Version'!B17 -> 46294 | C4: Reference Checks - Find out how often your club completes reference checks when hiring coaches and/or other staff members? | D4: 1-2 Required | G4: Coach Development/ Education
A5: ='Checklist - Full Version'!A27 -> Week 10 | B5: ='Checklist - Full Version'!B27 -> 46329 | C5: Coach Club Code of Conduct - Looking for an outward facing code of conduct so that parents and athletes can know what to expect from their coach. (if you choose to use the example you must customize fully for your club) | D5: 2 | F5: Coach Club Code of Conduct | G5: Coach Development/ Education

Sheet Athlete Dev-Performance
A1: 3 Month Plan Towards Recognition - Athlete Development/Performance Safe Sport Club Recognition Program
C3: Measure | D3: Points | E3: Complete | F3: Example Links | G3: Enter in Application Location
A4: ='Checklist - Full Version'!A6 -> Week 2 | B4: ='Checklist - Full Version'!B8 -> 46273 | C4: Online Safe Sport Education for Athletes - Begin communicating to parents and athletes about educational trainings for Youth and Kids. There are three ways in which parents can earn credit for education: 1. Through the online catalog "SafeSport For Kids" (Ages 5-12), "SafeSport for Teens" (Ages 13-17); 2.By attending a group training or attending provided by the team; or 3. Attending a USA Swimming virtual live training. More information can be found on the Training Opportunities Resource webpage. 10% of athletes trained is the minimum. 10% = 1 point. | D4: 1-5 Required | F4: Training Opportunities Resource | G4: Athlete Development/ Performance
C5: How a parent creates a minor athlete account. Athletes need their own account to take training.
A6: ='Checklist - Full Version'!A18 -> Week 6 | B6: ='Checklist - Full Version'!B19 -> 46301 | C6: Online Safe Sport Education for Athletes - Check to see how many athletes have completed "Safe Sport For Kids" (Ages 5-12), "SafeSport for Teens" (Ages 13-17) online education. Run Report. Communicate with parents and athletes about upcoming virtual trainings. (See week 4 for link to instructions on how to create accounts for minors) | D6: Required | F6: Training Opportunities Resource | G6: Athlete Development/ Performance
A7: ='Checklist - Full Version'!A27 -> Week 10 | B7: ='Checklist - Full Version'!B28 -> 46329 | C7: Athlete Club Codes of Conduct - Looking for an club code of conduct so that parents and athletes know what to expect from each other. (if you choose to use the example you must customize fully for your club) | D7: 2 for each | F7: Team Templates | G7: Athlete Development/ Performance
A8: ='Checklist - Full Version'!A31 -> Week 12 | B8: ='Checklist - Full Version'!B32 -> 46343 | C8: Online Safe Sport Education for Athletes - Check to see how many athletes have completed "SafeSport For Kids" (Ages 5-12), "SafeSport for Teens" (Ages 13-17) online education. Run Report. Communicate with parents and athletes about upcoming virtual trainings. | D8: Required | F8: Training Opportunities Resource | G8: Athlete Development/ Performance

Sheet Chart Data
A1: Create an infographic timeline by entering important milestones and activities in this worksheet. The title of this worksheet is in cell B1. Information about how to use this worksheet, including instructions for screen readers is in the About worksheet. Continue navigating down column A for further instructions. | B1: Infographic Chart Data
A2: Select how to show dates in the chart by selecting "Year" or "Day Month" in the dropdown list in cell D2. | D2: Day Month
A3: Headings for the table Chart Data is in cells B3 through D3. | B3: Date | C3: Milestone Title | D3: Description or Activity
A4: Enter a milestone dates in cells B4 through B8. Enter milestone title in cells C4 through C8. Enter milestone description or activity in cells D4 through D8. This is the last instruction in this worksheet. | B4: ='Checklist - Full Version'!B4 -> 46266 | C4: ='Checklist - Full Version'!A4 -> Week 1 | D4: Assign a Safe Sport Club Coordinator & Confirm all Board/Staff are registered for USA Swimming Membership
B5: ='Checklist - Full Version'!B6 -> 46273 | C5: ='Checklist - Full Version'!A6 -> Week 2 | D5: Focus on Safe Sport education for Parents & Athletes
B6: ='Checklist - Full Version'!B13 -> 46287 | C6: ='Checklist - Full Version'!A13 -> Week 4 | D6: Work on Club Website Best Practice Guidelines MAAPP Policies
B7: ='Checklist - Full Version'!B27 -> 46329 | C7: ='Checklist - Full Version'!A27 -> Week 10 | D7: Finish Uploading Documents in application & ensure 10% minimum parents and athletes have education requirements completed
B8: ='Checklist - Full Version'!B34 -> 46350 | C8: Submit Application for Review | D8: Celebrate! Safe Sport Club Recognition
A9: v

Sheet Chart Data Hidden
A1: Data in this worksheet is used for charting the date in day month format and for charting the year along the roadmap within the Infographic Timeline. Do not delete this worksheet. Modifying or deleting data will affect the integrity of the chart in the Infographic Timeline worksheet. | B1: Chart Data (Hidden) - Do NOT delete this worksheet
A2: Table headers are in cells B2 and D2. | B2: Date | D2: Year
A3: The first date from the Chart Data worksheet is in cell B3 and subsequent cells in that column. The year in cell D3 represents the starting position year of the timeline. | B3: =IFERROR(IF(LEN('Chart Data'!B4)=0,"",IF('Chart Data'!$D$2="Year",YEAR('Chart Data'!B4),IF('Chart Data'!$D$2="Blank","",DAY('Chart Data'!B4)&" "&TEXT('Chart Data'!B4,"mmm")))),"") -> 1 Sep | D3: =IFERROR(IF(LEN('Chart Data'!B4)=0,"",YEAR('Chart Data'!B4)),"") -> 2026 | E3: <-- year for the starting position of the roadmap
A4: The year in cell D4 represents the middle position year of the timeline. | B4: =IFERROR(IF(LEN('Chart Data'!B5)=0,"",IF('Chart Data'!$D$2="Year",YEAR('Chart Data'!B5),IF('Chart Data'!$D$2="Blank","",DAY('Chart Data'!B5)&" "&TEXT('Chart Data'!B5,"mmm")))),"") -> 8 Sep | D4: =IFERROR(IF(LEN('Chart Data'!B4)=0,"",IF(YEAR('Chart Data'!$B$6)=$D$3,$D$3,YEAR('Chart Data'!$B$6))),"") -> 2026 | E4: <-- year for the middle period of the roadmap, note, this may be blank if it's the same year as the starting position of the roadmap
A5: The year in cell D5 represents the last position year of the timeline. This is the last instruction in this worksheet. | B5: =IFERROR(IF(LEN('Chart Data'!B6)=0,"",IF('Chart Data'!$D$2="Year",YEAR('Chart Data'!B6),IF('Chart Data'!$D$2="Blank","",DAY('Chart Data'!B6)&" "&TEXT('Chart Data'!B6,"mmm")))),"") -> 22 Sep | D5: =IFERROR(IF(LEN('Chart Data'!B4)=0,"",IF(YEAR('Chart Data'!$B$8)=$D$3,"",YEAR('Chart Data'!$B$8))),"") | E5: <-- year for the last position of the roadmap, note, this may be blank if it's the same year as the starting position of the roadmap
B6: =IFERROR(IF(LEN('Chart Data'!B7)=0,"",IF('Chart Data'!$D$2="Year",YEAR('Chart Data'!B7),IF('Chart Data'!$D$2="Blank","",DAY('Chart Data'!B7)&" "&TEXT('Chart Data'!B7,"mmm")))),"") -> 3 Nov
B7: =IFERROR(IF(LEN('Chart Data'!B8)=0,"",IF('Chart Data'!$D$2="Year",YEAR('Chart Data'!B8),IF('Chart Data'!$D$2="Blank","",DAY('Chart Data'!B8)&" "&TEXT('Chart Data'!B8,"mmm")))),"") -> 24 Nov
